BEGIN:VCALENDAR
VERSION:2.0
PRODID:-//Sippin&#039; with Moose - ECPv6.15.20//NONSGML v1.0//EN
CALSCALE:GREGORIAN
METHOD:PUBLISH
X-WR-CALNAME:Sippin&#039; with Moose
X-ORIGINAL-URL:https://tequila.store
X-WR-CALDESC:Events for Sippin&#039; with Moose
REFRESH-INTERVAL;VALUE=DURATION:PT1H
X-Robots-Tag:noindex
X-PUBLISHED-TTL:PT1H
BEGIN:VTIMEZONE
TZID:America/Los_Angeles
BEGIN:DAYLIGHT
TZOFFSETFROM:-0800
TZOFFSETTO:-0700
TZNAME:PDT
DTSTART:20240310T100000
END:DAYLIGHT
BEGIN:STANDARD
TZOFFSETFROM:-0700
TZOFFSETTO:-0800
TZNAME:PST
DTSTART:20241103T090000
END:STANDARD
BEGIN:DAYLIGHT
TZOFFSETFROM:-0800
TZOFFSETTO:-0700
TZNAME:PDT
DTSTART:20250309T100000
END:DAYLIGHT
BEGIN:STANDARD
TZOFFSETFROM:-0700
TZOFFSETTO:-0800
TZNAME:PST
DTSTART:20251102T090000
END:STANDARD
BEGIN:DAYLIGHT
TZOFFSETFROM:-0800
TZOFFSETTO:-0700
TZNAME:PDT
DTSTART:20260308T100000
END:DAYLIGHT
BEGIN:STANDARD
TZOFFSETFROM:-0700
TZOFFSETTO:-0800
TZNAME:PST
DTSTART:20261101T090000
END:STANDARD
END:VTIMEZONE
BEGIN:VEVENT
DTSTART;TZID=America/Los_Angeles:20250919T160000
DTEND;TZID=America/Los_Angeles:20250919T190000
DTSTAMP:20260421T032413
CREATED:20250820T214235Z
LAST-MODIFIED:20250820T214235Z
UID:1074-1758297600-1758308400@tequila.store
SUMMARY:A Tasting Event Featuring Tears of Llorona
DESCRIPTION:A Night of Extraordinary Tequila: A Tasting Event Featuring Tears of Llorona\nJoin us for an unforgettable evening at SF Tequila Shop as we explore the world of ultra-premium tequila. We are proud to feature the legendary Tears of Llorona\, a limited-edition añejo crafted with meticulous care and aged for over five years in a unique combination of scotch\, sherry\, and brandy barrels. \nDate: Thursday\, September 19th\, 2025\nTime: 4:00 PM – 7:00 PM\nLocation: SF Tequila Shop\, Bernal Heights \nThis is a rare opportunity to taste a truly exceptional tequila\, alongside other select añejo and extra añejo expressions from our curated collection. Our tequila experts will be on hand to guide you through the tasting notes and share the rich history and artistry behind each bottle. \nTasting Notes:\nAroma: Rich notes of caramel custard\, dried fruit\, and dark chocolate\nTaste: Complex agave flavors with a heady spiciness\, designed for experienced palates\nFinish: Described as “a warm scarf on a cold day” – comforting and lingering \nThis “sipping tequila of the highest order” (Men’s Journal) demands to be savored slowly and mindfully. Its rarity and exceptional quality make Tears of Llorona a must-have for serious tequila enthusiasts and collectors. \nWhether you’re a seasoned connoisseur or simply curious about the world of fine spirits\, this event promises an evening of discovery\, education\, and unparalleled flavor.
URL:https://tequila.store/event/a-tasting-event-featuring-tears-of-llorona/
LOCATION:SF Tequila Shop\, 801 Corltand Avenue\, San Francisco\, CA\, 94110\, United States
CATEGORIES:Tequila Tasting
ATTACH;FMTTYPE=image/jpeg:https://tequila.store/wp-content/uploads/2025/08/tears-of-LLorona.jpg
ORGANIZER;CN="SF Tequila Shop":MAILTO:info@sftequilashop.com
END:VEVENT
BEGIN:VEVENT
DTSTART;TZID=America/Los_Angeles:20250905T160000
DTEND;TZID=America/Los_Angeles:20250905T190000
DTSTAMP:20260421T032413
CREATED:20250820T220448Z
LAST-MODIFIED:20250820T220448Z
UID:1077-1757088000-1757098800@tequila.store
SUMMARY:An Authentic Taste of Tradition: A San Matias Tahona Tequila Tasting
DESCRIPTION:An Authentic Taste of Tradition: A San Matias Tahona Tequila Tasting\nJoin us for an unforgettable evening at SF Tequila Shop as we explore the world of ultra-premium tequila. We are proud to feature the distinguished San Matias Tahona Line\, a testament to the traditional Tahona process\, which uses a volcanic stone wheel to crush the agave\, imparting a unique and authentic flavor profile. \nIndulge in the rich complexity of San Matias Tahona Añejo\, a testament to patience and traditional craftsmanship. Crafted at the esteemed San Matias distillery\, this exceptional añejo begins with 100% blue agave crushed using the ancient tahona stone\, unlocking a depth of flavor that forms the foundation of its character. It is then aged gracefully in American oak barrels\, allowing it to develop a smooth\, nuanced profile that speaks of time and dedication. The full line\,  Blanco\, Reposado\, and Añejo\, will be available for tasting. \nDate: Thursday\, September 5th\, 2025\nTime: 4:00 PM – 7:00 PM\nLocation: SF Tequila Shop\, Bernal Heights \nThis is a rare opportunity to taste a truly exceptional tequila\, alongside other select expressions from our curated collection. Our tequila experts will be on hand to guide you through the tasting notes and share the rich history and artistry behind each bottle. \nWhether you’re a seasoned connoisseur or simply curious about the world of fine spirits\, this event promises an evening of discovery\, education\, and unparalleled flavor.
URL:https://tequila.store/event/an-authentic-taste-of-tradition-a-san-matias-tahona-tequila-tasting/
LOCATION:SF Tequila Shop\, 801 Corltand Avenue\, San Francisco\, CA\, 94110\, United States
CATEGORIES:Tequila Tasting
ATTACH;FMTTYPE=image/png:https://tequila.store/wp-content/uploads/2025/08/Untitled-design-5.png
ORGANIZER;CN="SF Tequila Shop":MAILTO:info@sftequilashop.com
END:VEVENT
BEGIN:VEVENT
DTSTART;TZID=America/Los_Angeles:20250829T160000
DTEND;TZID=America/Los_Angeles:20250829T190000
DTSTAMP:20260421T032413
CREATED:20250812T230220Z
LAST-MODIFIED:20250812T230447Z
UID:1028-1756483200-1756494000@tequila.store
SUMMARY:An Evening with KOKORO Tequila
DESCRIPTION:An Evening with KOKORO Tequila\nThursday\, August 29th\, 4–7 pm \nSF Tequila Shop\, Bernal Heights \nJoin us for an intimate tasting with Howard Cao\, founder of KOKORO Tequila. Crafted in Mexico and inspired by the Japanese principle of kokoro — uniting heart\, mind\, and soul — KOKORO represents tequila in its purest form. \nEnjoy their award-winning\, additive-free tequila and explore its journey from horno-cooked agave and traditional tahona-milling to the rich\, complex flavors born from open-air fermentation and copper distillation. Each sip offers a balance of tradition and intentional design\, creating a profile that’s approachable for newcomers and captivating for seasoned aficionados alike. \nHoward will share KOKORO’s multicultural roots\, the meaning behind its name\, and how the philosophy of kokoro is infused into every bottle — from the quiet craftsmanship of production to the minimalist elegance of its presentation. \nCome taste why KOKORO has earned gold medals at the San Francisco World Spirits Competition and captured the attention of tequila lovers and design enthusiasts around the world. \nAbout SF Tequila\nSF Tequila Shop is your premier destination for exceptional agave spirits in San Francisco. We’re passionate about sharing the rich culture and history behind every bottle of tequila\, mezcal\, and beyond. Whether you’re a seasoned aficionado or new to the world of agave\, we’re here to guide you to your next favorite sip.
URL:https://tequila.store/event/an-evening-with-kokoro-tequila/
LOCATION:SF Tequila Shop\, 801 Corltand Avenue\, San Francisco\, CA\, 94110\, United States
CATEGORIES:Tequila Tasting
ATTACH;FMTTYPE=image/jpeg:https://tequila.store/wp-content/uploads/2025/08/HowardPortrait_BW-scaled.jpg
ORGANIZER;CN="SF Tequila Shop":MAILTO:info@sftequilashop.com
END:VEVENT
BEGIN:VEVENT
DTSTART;TZID=America/Los_Angeles:20250820T180000
DTEND;TZID=America/Los_Angeles:20250820T200000
DTSTAMP:20260421T032413
CREATED:20250819T225353Z
LAST-MODIFIED:20250819T225353Z
UID:1061-1755712800-1755720000@tequila.store
SUMMARY:Tequila tasting with David G. Suro Piñera
DESCRIPTION:Tequila tasting with David G. Suro Piñera\nDon’t miss a very special event this Wednesday\, from 6-8 pm\, at SF Tequila Shop in Bernal Heights! \nWe’re thrilled to host the legendary David G. Suro Piñera for a FREE tasting of Siembra Spirits. A celebrated restaurateur\, agave spirits specialist\, and amateur photographer\, Suro-Piñera is a true authority in the world of agave. \n“Discussing agave with him is akin to talking about the Bible with the pope—his knowledge is so profound and intuitive that it will captivate you\, even if you consider yourself an agnostic or\, perhaps (gasp)\, a gin drinker.” Maddy Sweitzer-Lammé\, Food & Wine \nThis is a unique opportunity to learn from one of the industry’s most respected figures. We hope to see you there!
URL:https://tequila.store/event/tequila-tasting-with-david-g-suro-pinera/
LOCATION:SF Tequila Shop\, 801 Corltand Avenue\, San Francisco\, CA\, 94110\, United States
CATEGORIES:Tequila Tasting
ATTACH;FMTTYPE=image/jpeg:https://tequila.store/wp-content/uploads/2025/08/David.jpg
ORGANIZER;CN="SF Tequila Shop":MAILTO:info@sftequilashop.com
END:VEVENT
BEGIN:VEVENT
DTSTART;TZID=America/Los_Angeles:20250817T130000
DTEND;TZID=America/Los_Angeles:20250817T160000
DTSTAMP:20260421T032413
CREATED:20250815T182458Z
LAST-MODIFIED:20250815T182458Z
UID:1052-1755435600-1755446400@tequila.store
SUMMARY:Cazcanes Tequila Tasting Event at SF Tequila Shop
DESCRIPTION:Cazcanes Tequila Tasting Event at SF Tequila Shop\nLocation: SF Tequila Shop\, Bernal Heights\, San Francisco \nSunday\, August 17th | 1:00 PM – 4:00 PM\nCazcanes Tequila \nCap off your weekend with the award-winning spirits of Cazcanes Tequila. Known for their pure\, clean\, and delicious profile\, Cazcanes has built a reputation for excellence. Join us to find out why this boutique brand has become a favorite among agave aficionados. \nFeatured Tastings:\nCazcanes Core Collection:\nCazcanes Blanco No. 7: Crystal clear expression showcasing the pure essence of highland agave with bright\, citrusy notes and a clean finish\nCazcanes Reposado No. 7: Aged 7 months in American oak barrels\, delivering perfect balance with subtle vanilla and spice complementing the agave character\nCazcanes Añejo No. 10: Aged 10 months for rich complexity\, featuring notes of caramel\, dried fruits\, and warm spices \nThe Cazcanes Story:\nLearn about the passion project that became a premium brand\, founded by friends who shared a vision of creating exceptionally pure and clean tequila. Discover how their commitment to traditional methods\, combined with innovative techniques\, has earned them recognition among industry experts and enthusiasts alike. \nWhat to Expect:\nBrand Deep Dive: Comprehensive exploration of Cazcanes’ philosophy and production methods\nTerroir Focus: Understanding how highland agave from Jalisco’s Los Altos region creates its signature clean profile\nInnovation Spotlight: Learn about their unique approaches\, including the Rosa Blanco wine barrel finishing\nQuality Standards: Discover the meticulous attention to detail that sets Cazcanes apart from mass-produced tequilas\nAward Recognition: Hear about the numerous accolades and industry awards that validate their excellence\nTasting Progression: Guided journey from blanco through aged expressions to understand flavor development \nLocation & Accessibility:\nSF Tequila Shop is located in the heart of Bernal Heights on Cortland Avenue. Street parking is available on Cortland and the surrounding streets. Public transportation is accessible via 24-Divisadero and 67-Bernal Heights Muni lines. \nJoin us for the perfect weekend finale\, discovering why Cazcanes has earned its reputation as one of the finest boutique tequila brands. Experience the purity\, craftsmanship\, and innovation that have made this brand a favorite among discerning agave enthusiasts. \n¡Salud to exceptional tequila!
URL:https://tequila.store/event/cazcanes-tequila-tasting-event-at-sf-tequila-shop/
LOCATION:SF Tequila Shop\, 801 Corltand Avenue\, San Francisco\, CA\, 94110\, United States
CATEGORIES:Tequila Tasting
ATTACH;FMTTYPE=image/webp:https://tequila.store/wp-content/uploads/2025/08/Cazcanes-Tequila-Tasting.webp
ORGANIZER;CN="SF Tequila Shop":MAILTO:info@sftequilashop.com
END:VEVENT
BEGIN:VEVENT
DTSTART;TZID=America/Los_Angeles:20250816T150000
DTEND;TZID=America/Los_Angeles:20250816T180000
DTSTAMP:20260421T032413
CREATED:20250815T181417Z
LAST-MODIFIED:20250815T181417Z
UID:1049-1755356400-1755367200@tequila.store
SUMMARY:Tres Tiempo Tequila & Amateco Mezcal Tastings
DESCRIPTION:Tres Tiempo Tequila & Amateco Mezcal Tastings\nJoin us for an afternoon exploring the incredible diversity of Mexico’s agave spirits. From the smooth sophistication of highland tequila to the smoky complexity of artisanal mezcal\, this tasting will deepen your appreciation for both traditions. \nTequila & Mezcal Tasting Event at SF Tequila Shop\nLocation: SF Tequila Shop\, Bernal Heights\, San Francisco \nSaturday\, August 16th | 3:00 PM – 6:00 PM\nTres Tiempo Tequila & Amateco Mezcal \nOn Saturday\, we’re exploring the full spectrum of agave! Experience the smooth\, artisanal craftsmanship of Tres Tiempo Tequila alongside the smoky\, complex flavors of Amateco Mezcal. Discover the fascinating differences and similarities between these two incredible spirits. \nFeatured Tastings:\nTres Tiempo Tequila Expressions:\nTres Tiempo Blanco: Crystal clear expression showcasing the pure highland agave character with bright\, floral notes\nTres Tiempo Reposado: Aged 6-8 months in American oak barrels\, creating perfect harmony between agave sweetness and oak spice\nTres Tiempo Añejo: Aged 18-24 months for rich complexity\, featuring notes of vanilla\, caramel\, and cooked agave \nAmateco Mezcal Expressions:\nAmateco Espadín: Traditional mezcal made from cultivated espadín agave\, showcasing classic smoky character and earthy undertones\nAmateco Tobalá: Wild agave expression with incredible depth and complexity\, featuring floral and mineral notes\nAmateco Ensamble: Unique blend of different agave varietals creating a harmonious and layered tasting experience \nSF Tequila Shop is located in the heart of Bernal Heights on Cortland Avenue. Street parking is available on Cortland and the surrounding streets. Public transportation is accessible via 24-Divisadero and 67-Bernal Heights Muni lines. \n¡Salud y que viva México!
URL:https://tequila.store/event/tres-tiempo-tequila-amateco-mezcal-tastings/
LOCATION:SF Tequila Shop\, 801 Corltand Avenue\, San Francisco\, CA\, 94110\, United States
CATEGORIES:Tequila Tasting
ATTACH;FMTTYPE=image/jpeg:https://tequila.store/wp-content/uploads/2025/08/IMG_4738-1.jpg
ORGANIZER;CN="SF Tequila Shop":MAILTO:info@sftequilashop.com
END:VEVENT
BEGIN:VEVENT
DTSTART;TZID=America/Los_Angeles:20250815T170000
DTEND;TZID=America/Los_Angeles:20250815T190000
DTSTAMP:20260421T032413
CREATED:20250815T180317Z
LAST-MODIFIED:20250815T180317Z
UID:1046-1755277200-1755284400@tequila.store
SUMMARY:Tequila Tasting at SF Tequila Shop: Cascahuin & G4
DESCRIPTION:Tequila Tasting at SF Tequila Shop: Cascahuin & G4\nJoin us for an evening celebrating two of Mexico’s most respected tequila producers. Whether you’re a seasoned enthusiast or just beginning your journey into premium tequila\, this tasting offers an exceptional opportunity to expand your palate and knowledge. \nFriday\, August 15th | 5:00 PM – 7:00 PM\nCascahuin & G4 Tequila \nKick off your weekend with two legendary names in tequila. Taste the passion and tradition behind Cascahuin and G4\, brands renowned for their commitment to authentic\, high-quality tequila. This is a rare chance to sample these highly respected expressions and learn what makes them so special. \nFeatured Tastings:\nCascahuin Expressions:\nCascahuin Blanco: Experience the pure essence of blue agave with this unaged expression that showcases the distillery’s traditional tahona stone crushing process\nCascahuin Reposado: Aged in American oak barrels for 8-11 months\, delivering a perfect balance between agave character and wood influence\nCascahuin Añejo: Rich and complex\, aged 14-18 months for deeper oak integration while maintaining vibrant agave character \nG4 Expressions:\nG4 Blanco: Felipe Camarena’s masterpiece featuring 100% estate-grown agave from the highlands of Jalisco\nG4 Reposado: Aged 6 months in used American oak\, preserving the bright agave flavors while adding subtle complexity\nG4 Extra Añejo: A special treat – aged 3+ years for an incredibly smooth and sophisticated tasting experience \nWhat to Expect:\nGuided tasting with brand representatives sharing insider knowledge about production methods\nLearn about the differences between highland and lowland agave terroir\nDiscover the traditional tahona stone process vs. modern production techniques\nEducational discussion on the Camarena family legacy and NOM 1579 distillery\nPerfect pairings with artisanal Mexican chocolate and aged cheeses\nProfessional tasting notes and score sheets provided\nSpecial pricing on featured bottles for event attendees \nMeet the Makers:\nLearn directly from brand representatives about the craftsmanship behind these exceptional tequilas. Discover how Cascahuin’s commitment to traditional methods creates its distinctive flavor profile\, and hear about the Camarena family’s four generations of tequila-making expertise at G4. \nSF Tequila Shop is located in the heart of Bernal Heights on Cortland Avenue. Street parking is available on Cortland and the surrounding streets. Accessible via 24-Divisadero and 67-Bernal Heights Muni lines.
URL:https://tequila.store/event/tequila-tasting-at-sf-tequila-shop-cascahuin-g4/
LOCATION:SF Tequila Shop\, 801 Corltand Avenue\, San Francisco\, CA\, 94110\, United States
CATEGORIES:Tequila Tasting
ATTACH;FMTTYPE=image/jpeg:https://tequila.store/wp-content/uploads/2025/08/Tequila-Tasting-at-SF-Tequila-Shop-Cascahuin-G4.jpg
ORGANIZER;CN="SF Tequila Shop":MAILTO:info@sftequilashop.com
END:VEVENT
BEGIN:VEVENT
DTSTART;TZID=America/Los_Angeles:20250808T170000
DTEND;TZID=America/Los_Angeles:20250808T190000
DTSTAMP:20260421T032413
CREATED:20250807T232050Z
LAST-MODIFIED:20250808T001729Z
UID:985-1754672400-1754679600@tequila.store
SUMMARY:Lágrimas Del Valle Tasting - SF Tequila Shop
DESCRIPTION:Lágrimas Del Valle Tasting – SF Tequila Shop\nJoin us for an exclusive evening exploring the exceptional world of Lágrimas Del Valle – “Tears of the Valley” – a collection of premium tequilas that represent the purest expression of agave terroir. \nExperience single-ranch\, vintage-dated tequilas that showcase the unique characteristics of their specific locations\, elevations\, and harvest years. Each bottle tells the story of its origin through distinctive flavor profiles that reflect the land where the agave was grown. \nOur expert-guided tasting will explore the meaning behind the name\, from the “tears” that form on your glass from high-quality agave spirits\, to the precious condensed spirits that fall into the still during the transformation of agave into tequila. \nMaster Distillery Heritage\nLágrimas Del Valle is produced in collaboration with the renowned Rosales family of Tequila Cascahuin\, led by Master Distiller Salvador “Chava” Rosales Trejo. As the fourth generation of his family\, Chava continues a distilling tradition that dates back to 1904 in El Arenal\, Jalisco – in the heart of the legendary “Valley” of Tequila. \nAbout SF Tequila Shop\nThe SF Tequila Mezcal Shop\, located at 801 Cortland Ave in San Francisco\, specializes in a wide variety of tequila and mezcal. Known for its extensive selection and knowledgeable staff\, the shop is a destination for enthusiasts and newcomers alike. They offer a curated collection of spirits\, from popular brands to rare and small-batch agave distillations. With a high customer rating of 4.9 stars\, it’s a well-regarded spot for anyone looking to explore the world of tequila and mezcal.
URL:https://tequila.store/event/lagrimas-del-valle-tasting-sf-tequila-shop/
LOCATION:SF Tequila Shop\, 801 Corltand Avenue\, San Francisco\, CA\, 94110\, United States
CATEGORIES:Tequila Tasting
ATTACH;FMTTYPE=image/jpeg:https://tequila.store/wp-content/uploads/2025/08/Lagrimas_Banner.jpg
ORGANIZER;CN="SF Tequila Shop":MAILTO:info@sftequilashop.com
END:VEVENT
END:VCALENDAR